BEGIN:VCALENDAR
VERSION:2.0
PRODID:-//Secteur Beauport-Côte-de-Beaupré - ECPv5.14.0.4//NONSGML v1.0//EN
CALSCALE:GREGORIAN
METHOD:PUBLISH
X-WR-CALNAME:Secteur Beauport-Côte-de-Beaupré
X-ORIGINAL-URL:https://beauport.areq.lacsq.org
X-WR-CALDESC:évènements pour Secteur Beauport-Côte-de-Beaupré
BEGIN:VTIMEZONE
TZID:America/New_York
BEGIN:DAYLIGHT
TZOFFSETFROM:-0500
TZOFFSETTO:-0400
TZNAME:EDT
DTSTART:20260308T070000
END:DAYLIGHT
BEGIN:STANDARD
TZOFFSETFROM:-0400
TZOFFSETTO:-0500
TZNAME:EST
DTSTART:20261101T060000
END:STANDARD
END:VTIMEZONE
BEGIN:VEVENT
DTSTART;TZID=America/New_York:20260618T090000
DTEND;TZID=America/New_York:20260618T100000
DTSTAMP:20260422T101042
CREATED:20260121T195438Z
LAST-MODIFIED:20260121T195853Z
UID:5214-1781773200-1781776800@beauport.areq.lacsq.org
SUMMARY:Marche du courage Procure
DESCRIPTION:Le Centre de plein air de Beauport est situé dans un boisé protégé de l’arrondissement de Beauport\, dans la ville de Québec\, le long de la rivière Montmorency\, à proximité de la célèbre chute\, et à seulement sept kilomètres du Vieux-Québec. Il comprend des emplacements\, dont certains avec les trois services. Le centre offre de nombreuses activités\, telles que la baignade en piscine\, la location d’embarcations\, le prêt de vélos et un accès direct à la piste cyclable. Le centre a reçu plusieurs distinctions au cours des dernières années. Une équipe accueillante y est présente tout au long de l’été.
URL:https://beauport.areq.lacsq.org/event/marche-du-courage-procure/
LOCATION:Base de Plein Beauport\, 95 Rue De La Sérénité\,\, Québec\,\, Québec\, G1C 8G7\, Canada
ORGANIZER;CN="https%3A%2F%2Fbeauport.areq.lacsq.org%2F":MAILTO:bernard.deschenes@hotmail.com
END:VEVENT
END:VCALENDAR