BEGIN:VCALENDAR
VERSION:2.0
PRODID:-//Secteur Beauport-Côte-de-Beaupré - ECPv5.14.0.4//NONSGML v1.0//EN
CALSCALE:GREGORIAN
METHOD:PUBLISH
X-WR-CALNAME:Secteur Beauport-Côte-de-Beaupré
X-ORIGINAL-URL:https://beauport.areq.lacsq.org
X-WR-CALDESC:évènements pour Secteur Beauport-Côte-de-Beaupré
BEGIN:VTIMEZONE
TZID:America/New_York
BEGIN:DAYLIGHT
TZOFFSETFROM:-0500
TZOFFSETTO:-0400
TZNAME:EDT
DTSTART:20250309T070000
END:DAYLIGHT
BEGIN:STANDARD
TZOFFSETFROM:-0400
TZOFFSETTO:-0500
TZNAME:EST
DTSTART:20251102T060000
END:STANDARD
END:VTIMEZONE
BEGIN:VEVENT
DTSTART;TZID=America/New_York:20251127T093000
DTEND;TZID=America/New_York:20251127T113000
DTSTAMP:20260424T190335
CREATED:20251114T153330Z
LAST-MODIFIED:20251114T155841Z
UID:5090-1764235800-1764243000@beauport.areq.lacsq.org
SUMMARY:Le 2e concerto de Rachmaninov
DESCRIPTION:
URL:https://beauport.areq.lacsq.org/event/le-2e-concerto-de-rochmaninov/
LOCATION:Le Grand Théâtre de Québec\, 269\, boulevard René-Lévesque Est\, Québec\, (Québec)\, G1R 2B3\, Canada
END:VEVENT
END:VCALENDAR