BEGIN:VCALENDAR
VERSION:2.0
PRODID:-//Secteur Beauport-Côte-de-Beaupré - ECPv5.14.0.4//NONSGML v1.0//EN
CALSCALE:GREGORIAN
METHOD:PUBLISH
X-WR-CALNAME:Secteur Beauport-Côte-de-Beaupré
X-ORIGINAL-URL:https://beauport.areq.lacsq.org
X-WR-CALDESC:évènements pour Secteur Beauport-Côte-de-Beaupré
BEGIN:VTIMEZONE
TZID:America/New_York
BEGIN:DAYLIGHT
TZOFFSETFROM:-0500
TZOFFSETTO:-0400
TZNAME:EDT
DTSTART:20260308T070000
END:DAYLIGHT
BEGIN:STANDARD
TZOFFSETFROM:-0400
TZOFFSETTO:-0500
TZNAME:EST
DTSTART:20261101T060000
END:STANDARD
END:VTIMEZONE
BEGIN:VEVENT
DTSTART;TZID=America/New_York:20260306T090000
DTEND;TZID=America/New_York:20260306T150000
DTSTAMP:20260424T140835
CREATED:20251218T012308Z
LAST-MODIFIED:20260119T021218Z
UID:5177-1772787600-1772809200@beauport.areq.lacsq.org
SUMMARY:Journée internationale des droits des femmes
DESCRIPTION:
URL:https://beauport.areq.lacsq.org/event/journee-internationale-des-droits-des-femmes/
END:VEVENT
END:VCALENDAR