BEGIN:VCALENDAR
VERSION:2.0
PRODID:-//Secteur Beauport-Côte-de-Beaupré - ECPv5.14.0.4//NONSGML v1.0//EN
CALSCALE:GREGORIAN
METHOD:PUBLISH
X-WR-CALNAME:Secteur Beauport-Côte-de-Beaupré
X-ORIGINAL-URL:https://beauport.areq.lacsq.org
X-WR-CALDESC:évènements pour Secteur Beauport-Côte-de-Beaupré
BEGIN:VTIMEZONE
TZID:America/New_York
BEGIN:DAYLIGHT
TZOFFSETFROM:-0500
TZOFFSETTO:-0400
TZNAME:EDT
DTSTART:20260308T070000
END:DAYLIGHT
BEGIN:STANDARD
TZOFFSETFROM:-0400
TZOFFSETTO:-0500
TZNAME:EST
DTSTART:20261101T060000
END:STANDARD
END:VTIMEZONE
BEGIN:VEVENT
DTSTART;TZID=America/New_York:20260430T083000
DTEND;TZID=America/New_York:20260430T150000
DTSTAMP:20260424T105939
CREATED:20251218T012527Z
LAST-MODIFIED:20260321T181435Z
UID:5180-1777537800-1777561200@beauport.areq.lacsq.org
SUMMARY:Assemblée générale sectorielle 2026
DESCRIPTION:Assemblée générale sectorielle\, date limite d’inscription :16 avril 2026\, date de l’activité : 30 avril 2026.\n\nConvocation\n40e Assemblée générale annuelle du secteur AREQ Beauport–Côte-de-Beaupré (AGS) \nLe jeudi 30 avril 2026\, accueil à 8h30 \nHôtel Ambassadeur\, 3401 boul. Ste-Anne\, Québec\, salle Ste-Anne A et B \nOrdre du jour \n1. Inscription et visite de l’exposition de nos artistes membres de l’AREQ.\n2. Accueil et mot de bienvenue de la présidence.\n3. Nomination d’un·e président·e et d’un·e secrétaire d’assemblée et d’élection.\n4. Lecture et adoption de l’ordre du jour.\n5. Nomination d’un·e président·e et d’un·e secrétaire d’élection.\n6. Lecture et adoption du procès-verbal de l’Assemblée générale du A2425-AGS-PV-1.\n7. Réception du rapport de la présidence et des rapports des comités (à lire avant l’assemblée).\n8. Rapport de la trésorerie.\n9. Élections du conseil sectoriel:- Présidence\, 2e vice-présidence\, secrétaire\, et 2e conseiller.\n10. Nomination des délégués et des substituts pour le Congrès de 2026 à Lévis.\n11. État de réalisation et adoption du plan d’action triennal sectoriel;- Mot du président régional Réjean Lemelin\n12. Autres sujets :- Assemblée générale régionale\, le mardi 12 mai 2026\, à l’Hôtel Québec \nLevée de l’Assemblée \nÀ 11h – Conférence sur la proche-aidance avec Samuel Labrecque.\nÀ 12h – Dîner convivial\, formule buffet.- Tirage du nom de l’artiste devant participer à l’AGR. \nN.B. Pour l’assemblée générale\, seulement les membres réguliers de l’AREQ Beauport – Côte-de-Beaupré ont droit de vote.\nPour que l’assemblée générale sectorielle soit officialisée\, il faut atteindre le quorum de 33 membres réguliers. \nBernard Deschênes\, président
URL:https://beauport.areq.lacsq.org/event/assemblee-generale-sectorielle-2026/
LOCATION:Hôtel Ambassadeur\, 3401 boul. Ste-Anne\,\, Québec\, salle Ste-Anne A et\, Québec\, G1E 3L4\, Canada
END:VEVENT
END:VCALENDAR