BEGIN:VCALENDAR
VERSION:2.0
PRODID:-//Secteur Beauport-Côte-de-Beaupré - ECPv5.14.0.4//NONSGML v1.0//EN
CALSCALE:GREGORIAN
METHOD:PUBLISH
X-WR-CALNAME:Secteur Beauport-Côte-de-Beaupré
X-ORIGINAL-URL:https://beauport.areq.lacsq.org
X-WR-CALDESC:évènements pour Secteur Beauport-Côte-de-Beaupré
BEGIN:VTIMEZONE
TZID:America/New_York
BEGIN:DAYLIGHT
TZOFFSETFROM:-0500
TZOFFSETTO:-0400
TZNAME:EDT
DTSTART:20260308T070000
END:DAYLIGHT
BEGIN:STANDARD
TZOFFSETFROM:-0400
TZOFFSETTO:-0500
TZNAME:EST
DTSTART:20261101T060000
END:STANDARD
END:VTIMEZONE
BEGIN:VEVENT
DTSTART;TZID=America/New_York:20260512T090000
DTEND;TZID=America/New_York:20260512T150000
DTSTAMP:20260424T110420
CREATED:20251218T012847Z
LAST-MODIFIED:20260321T173536Z
UID:5182-1778576400-1778598000@beauport.areq.lacsq.org
SUMMARY:Assemblée générale régionale 2026
DESCRIPTION:36e Assemblée générale régionale des membres de \nl’AREQ Région Québec–Chaudière-Appalaches \nDate : le mardi 12 mai 2026 \nAccueil : 9 h • AGR : 9 h30 \nA2526-AGR-OJ-01\nConvocation\nLes membres de l’AREQ Région Québec–Chaudière-Appalaches sont convoqués à l’Assemblée générale\nrégionale de l’Association qui aura lieu à l’Hôtel Québec\, 3115\, avenue des Hôtels\, Québec G1W 3Z6 \nS.V.P. Apportez votre carte de membre. \nPROJET D’ORDRE DU JOUR \n1. Ouverture et mot de bienvenue\n2. Nomination de la présidence d’assemblée\n3. Présentation de la présidence d’élection (art.18.04)\n4. Présentation et adoption de l’ordre du jour de la 36e Assemblée générale A2526-AGR-OJ-01\n5. Présenta on et adop on du procès-verbal de la 35e Assemblée générale A2425-AGR-PV-01\n6. Présentation du rapport de la présidence et des rapports des responsables de comités régionaux\n7. Rapport de la trésorière\n7.01 Présentation et réception du rapport financier régional 2024-2025\n7.02 Présentation et réception du rapport régional 2025-2026 (au 30 avril 2026)\n8. Nomination des personnes scrutatrices (art.18.04)\n9. Élections (art. 14.02 a et b)\n10. Réception du plan d’action régional (art.14.02c) et état de sa réalisation\n11. Présentation et mot de la trésorière de l’AREQ (CSQ) et représentante politique de notre région\n12. Présentation des artistes et remise de prix de participation\n13. Prix de présence\n14. Levée de l’assemblée\n15. Repas \nHuguette Lamontagne\, secrétaire                                                                         Réjean Lemelin\, président 
URL:https://beauport.areq.lacsq.org/event/assemblee-generale-regionale-2026/
LOCATION:Hôtel Québec\, 3115\, Avenue des Hôtels\, Québec\, Québec\, G1W 3Z6\, Canada
END:VEVENT
END:VCALENDAR