BEGIN:VCALENDAR
VERSION:2.0
PRODID:-//Secteur Beauport-Côte-de-Beaupré - ECPv5.14.0.4//NONSGML v1.0//EN
CALSCALE:GREGORIAN
METHOD:PUBLISH
X-WR-CALNAME:Secteur Beauport-Côte-de-Beaupré
X-ORIGINAL-URL:https://beauport.areq.lacsq.org
X-WR-CALDESC:évènements pour Secteur Beauport-Côte-de-Beaupré
BEGIN:VTIMEZONE
TZID:America/New_York
BEGIN:DAYLIGHT
TZOFFSETFROM:-0500
TZOFFSETTO:-0400
TZNAME:EDT
DTSTART:20260308T070000
END:DAYLIGHT
BEGIN:STANDARD
TZOFFSETFROM:-0400
TZOFFSETTO:-0500
TZNAME:EST
DTSTART:20261101T060000
END:STANDARD
END:VTIMEZONE
BEGIN:VEVENT
DTSTART;VALUE=DATE:20260512
DTEND;VALUE=DATE:20260513
DTSTAMP:20260424T171518
CREATED:20260119T030648Z
LAST-MODIFIED:20260314T140801Z
UID:5208-1778544000-1778630399@beauport.areq.lacsq.org
SUMMARY:Escapades
DESCRIPTION:https://
URL:https://beauport.areq.lacsq.org/event/5208/
END:VEVENT
END:VCALENDAR